BEGIN:VCALENDAR
VERSION:2.0
PRODID:-//Port of South Whidbey - ECPv6.15.20//NONSGML v1.0//EN
CALSCALE:GREGORIAN
METHOD:PUBLISH
X-ORIGINAL-URL:https://portofsouthwhidbey.com
X-WR-CALDESC:Events for Port of South Whidbey
REFRESH-INTERVAL;VALUE=DURATION:PT1H
X-Robots-Tag:noindex
X-PUBLISHED-TTL:PT1H
BEGIN:VTIMEZONE
TZID:America/Los_Angeles
BEGIN:DAYLIGHT
TZOFFSETFROM:-0800
TZOFFSETTO:-0700
TZNAME:PDT
DTSTART:20160313T100000
END:DAYLIGHT
BEGIN:STANDARD
TZOFFSETFROM:-0700
TZOFFSETTO:-0800
TZNAME:PST
DTSTART:20161106T090000
END:STANDARD
BEGIN:DAYLIGHT
TZOFFSETFROM:-0800
TZOFFSETTO:-0700
TZNAME:PDT
DTSTART:20170312T100000
END:DAYLIGHT
BEGIN:STANDARD
TZOFFSETFROM:-0700
TZOFFSETTO:-0800
TZNAME:PST
DTSTART:20171105T090000
END:STANDARD
BEGIN:DAYLIGHT
TZOFFSETFROM:-0800
TZOFFSETTO:-0700
TZNAME:PDT
DTSTART:20180311T100000
END:DAYLIGHT
BEGIN:STANDARD
TZOFFSETFROM:-0700
TZOFFSETTO:-0800
TZNAME:PST
DTSTART:20181104T090000
END:STANDARD
END:VTIMEZONE
BEGIN:VEVENT
DTSTART;TZID=America/Los_Angeles:20171010T080000
DTEND;TZID=America/Los_Angeles:20171010T170000
DTSTAMP:20260425T121307
CREATED:20170910T041731Z
LAST-MODIFIED:20171024T213210Z
UID:10000001-1507622400-1507654800@portofsouthwhidbey.com
SUMMARY:HOPE Therapeutic Riding Program
DESCRIPTION:Pre-register with HOPE.
URL:https://portofsouthwhidbey.com/event/hope-therapeutic-riding-program-7/
LOCATION:Eakin Arena\, 819 Camano Avenue\, Langley\, WA\, 98260\, United States
CATEGORIES:Eakin Arena Events,Fairgrounds Events
ORGANIZER;CN="HOPE":MAILTO:hope@whidbey.com
END:VEVENT
BEGIN:VEVENT
DTSTART;TZID=America/Los_Angeles:20171010T183000
DTEND;TZID=America/Los_Angeles:20171010T203000
DTSTAMP:20260425T121307
CREATED:20171002T234033Z
LAST-MODIFIED:20171024T204744Z
UID:10000006-1507660200-1507667400@portofsouthwhidbey.com
SUMMARY:Regular Meeting
DESCRIPTION:The next Regular Meeting of the Board of Commissioners of the Port District of South Whidbey Island is scheduled for Tuesday\, October 10th at 6:30 p.m. in the meeting room of the South Whidbey Parks & Recreation Building at 5475 Maxwelton Road\, Langley\, WA.\nDraft Agenda 10-10-17 Regular
URL:https://portofsouthwhidbey.com/event/general-meeting/
LOCATION:South Whidbey Parks & Rec District office\, 5475 Maxwelton Road\, Langley\, WA\, United States
CATEGORIES:Port Wide Events
ORGANIZER;CN="Port of South Whidbey Business Office":MAILTO:molly@portofsouthwhidbey.com
END:VEVENT
END:VCALENDAR