BEGIN:VCALENDAR
VERSION:2.0
PRODID:-//Port of South Whidbey - ECPv6.15.20//NONSGML v1.0//EN
CALSCALE:GREGORIAN
METHOD:PUBLISH
X-ORIGINAL-URL:https://portofsouthwhidbey.com
X-WR-CALDESC:Events for Port of South Whidbey
REFRESH-INTERVAL;VALUE=DURATION:PT1H
X-Robots-Tag:noindex
X-PUBLISHED-TTL:PT1H
BEGIN:VTIMEZONE
TZID:America/Los_Angeles
BEGIN:DAYLIGHT
TZOFFSETFROM:-0800
TZOFFSETTO:-0700
TZNAME:PDT
DTSTART:20160313T100000
END:DAYLIGHT
BEGIN:STANDARD
TZOFFSETFROM:-0700
TZOFFSETTO:-0800
TZNAME:PST
DTSTART:20161106T090000
END:STANDARD
BEGIN:DAYLIGHT
TZOFFSETFROM:-0800
TZOFFSETTO:-0700
TZNAME:PDT
DTSTART:20170312T100000
END:DAYLIGHT
BEGIN:STANDARD
TZOFFSETFROM:-0700
TZOFFSETTO:-0800
TZNAME:PST
DTSTART:20171105T090000
END:STANDARD
BEGIN:DAYLIGHT
TZOFFSETFROM:-0800
TZOFFSETTO:-0700
TZNAME:PDT
DTSTART:20180311T100000
END:DAYLIGHT
BEGIN:STANDARD
TZOFFSETFROM:-0700
TZOFFSETTO:-0800
TZNAME:PST
DTSTART:20181104T090000
END:STANDARD
END:VTIMEZONE
BEGIN:VEVENT
DTSTART;TZID=America/Los_Angeles:20171116T193000
DTEND;TZID=America/Los_Angeles:20171116T220000
DTSTAMP:20260424T183613
CREATED:20171018T034855Z
LAST-MODIFIED:20171024T211822Z
UID:10000011-1510860600-1510869600@portofsouthwhidbey.com
SUMMARY:OutCast Productions Live Theater: Follies in Concert
DESCRIPTION:Come see Follies in Concert\, in the cozy and quaint Black Box Theater. Contact OutCast Productions for tickets and information.
URL:https://portofsouthwhidbey.com/event/outcast-productions-live-theater-follies-concert-5/
LOCATION:Black Box Theater\, Pole Building\, 819 Camano Avenue\, Langley\, WA\, 98260\, United States
CATEGORIES:Fairgrounds Events
ORGANIZER;CN="OutCast Productions":MAILTO:ocp@whidbey.com
END:VEVENT
END:VCALENDAR