BEGIN:VCALENDAR
VERSION:2.0
PRODID:-//Port of South Whidbey - ECPv6.15.20//NONSGML v1.0//EN
CALSCALE:GREGORIAN
METHOD:PUBLISH
X-WR-CALNAME:Port of South Whidbey
X-ORIGINAL-URL:https://portofsouthwhidbey.com
X-WR-CALDESC:Events for Port of South Whidbey
REFRESH-INTERVAL;VALUE=DURATION:PT1H
X-Robots-Tag:noindex
X-PUBLISHED-TTL:PT1H
BEGIN:VTIMEZONE
TZID:America/Los_Angeles
BEGIN:DAYLIGHT
TZOFFSETFROM:-0800
TZOFFSETTO:-0700
TZNAME:PDT
DTSTART:20170312T100000
END:DAYLIGHT
BEGIN:STANDARD
TZOFFSETFROM:-0700
TZOFFSETTO:-0800
TZNAME:PST
DTSTART:20171105T090000
END:STANDARD
BEGIN:DAYLIGHT
TZOFFSETFROM:-0800
TZOFFSETTO:-0700
TZNAME:PDT
DTSTART:20180311T100000
END:DAYLIGHT
BEGIN:STANDARD
TZOFFSETFROM:-0700
TZOFFSETTO:-0800
TZNAME:PST
DTSTART:20181104T090000
END:STANDARD
BEGIN:DAYLIGHT
TZOFFSETFROM:-0800
TZOFFSETTO:-0700
TZNAME:PDT
DTSTART:20190310T100000
END:DAYLIGHT
BEGIN:STANDARD
TZOFFSETFROM:-0700
TZOFFSETTO:-0800
TZNAME:PST
DTSTART:20191103T090000
END:STANDARD
END:VTIMEZONE
BEGIN:VEVENT
DTSTART;TZID=America/Los_Angeles:20180210T093000
DTEND;TZID=America/Los_Angeles:20180210T130000
DTSTAMP:20260424T100213
CREATED:20180110T015210Z
LAST-MODIFIED:20180110T015210Z
UID:10000154-1518255000-1518267600@portofsouthwhidbey.com
SUMMARY:Figure Drawing Session
DESCRIPTION:Non-instructed\, self-paced painting\, drawing or sketching from the live model. Contact South Whidbey Island Figure Drawing Group for info.
URL:https://portofsouthwhidbey.com/event/figure-drawing-session-13/
LOCATION:Burrier East\, 819 Camano Avenue\, Langley\, WA\, 98260
CATEGORIES:Fairgrounds Events
ORGANIZER;CN="South Whidbey Island Figure Drawing Group":MAILTO:info@whidbeyislandfas.com
END:VEVENT
BEGIN:VEVENT
DTSTART;TZID=America/Los_Angeles:20180210T193000
DTEND;TZID=America/Los_Angeles:20180210T220000
DTSTAMP:20260424T100213
CREATED:20180112T201414Z
LAST-MODIFIED:20180112T201414Z
UID:10000163-1518291000-1518300000@portofsouthwhidbey.com
SUMMARY:Black Box Theater: Aladdin\, A British Panto
DESCRIPTION:OutCast Productions presents a Never Too Late Players production of ALADDIN. In true British Panto form\, this is ALADDIN like you’ve never seen it. When you come to Black Box Theater for ALADDIN don’t expect a rehash of the Disney story. Sure\, there’s a genie\, a scamp named Aladdin\, a beautiful princess and even a magic carpet ride\, but this production also has lots of new surprises in store. Featuring South Whidbey theater stalwarts such as Jim Carroll\, Suzanne Kelman\, Martha Murphy and Jimmy Scullin\, ALADDIN is a great show for kids and for adults who’ve had a few glasses of wine. \nContact OutCast Productions for ticket information.
URL:https://portofsouthwhidbey.com/event/black-box-theater-aladdin-british-panto-4/
LOCATION:Black Box Theater\, Pole Building\, 819 Camano Avenue\, Langley\, WA\, 98260\, United States
CATEGORIES:Fairgrounds Events
ORGANIZER;CN="OutCast Productions":MAILTO:ocp@whidbey.com
END:VEVENT
END:VCALENDAR