BEGIN:VCALENDAR
VERSION:2.0
PRODID:-//Port of South Whidbey - ECPv6.15.20//NONSGML v1.0//EN
CALSCALE:GREGORIAN
METHOD:PUBLISH
X-WR-CALNAME:Port of South Whidbey
X-ORIGINAL-URL:https://portofsouthwhidbey.com
X-WR-CALDESC:Events for Port of South Whidbey
REFRESH-INTERVAL;VALUE=DURATION:PT1H
X-Robots-Tag:noindex
X-PUBLISHED-TTL:PT1H
BEGIN:VTIMEZONE
TZID:America/Los_Angeles
BEGIN:DAYLIGHT
TZOFFSETFROM:-0800
TZOFFSETTO:-0700
TZNAME:PDT
DTSTART:20170312T100000
END:DAYLIGHT
BEGIN:STANDARD
TZOFFSETFROM:-0700
TZOFFSETTO:-0800
TZNAME:PST
DTSTART:20171105T090000
END:STANDARD
BEGIN:DAYLIGHT
TZOFFSETFROM:-0800
TZOFFSETTO:-0700
TZNAME:PDT
DTSTART:20180311T100000
END:DAYLIGHT
BEGIN:STANDARD
TZOFFSETFROM:-0700
TZOFFSETTO:-0800
TZNAME:PST
DTSTART:20181104T090000
END:STANDARD
BEGIN:DAYLIGHT
TZOFFSETFROM:-0800
TZOFFSETTO:-0700
TZNAME:PDT
DTSTART:20190310T100000
END:DAYLIGHT
BEGIN:STANDARD
TZOFFSETFROM:-0700
TZOFFSETTO:-0800
TZNAME:PST
DTSTART:20191103T090000
END:STANDARD
END:VTIMEZONE
BEGIN:VEVENT
DTSTART;TZID=America/Los_Angeles:20180325T160000
DTEND;TZID=America/Los_Angeles:20180325T183000
DTSTAMP:20260424T090927
CREATED:20180130T185842Z
LAST-MODIFIED:20180130T185842Z
UID:10000077-1521993600-1522002600@portofsouthwhidbey.com
SUMMARY:OutCast Productions: ANNOYANCE\, live theatre
DESCRIPTION:Located inside the cozy Black Box Theater\, OutCast Productions brings you live theatre on the edge: ANNOYANCE\, a comedy. In the first scene\, a very annoying man goes to see a woman therapist in the hopes that she will help him become less annoying. He drives her over the edge. In the second scene\, he sees her husband\, also a therapist\, and drives him over the edge. In the third scene\, he sees both therapists\, who have decided to take drastic measures to rid the world of this most obnoxious man. Of course\, it doesn’t go as planned.
URL:https://portofsouthwhidbey.com/event/outcast-productions-annoyance-live-theatre-8/
LOCATION:Black Box Theater\, Pole Building\, 819 Camano Avenue\, Langley\, WA\, 98260\, United States
CATEGORIES:Fairgrounds Events
ORGANIZER;CN="OutCast Productions":MAILTO:ocp@whidbey.com
END:VEVENT
END:VCALENDAR