BEGIN:VCALENDAR
VERSION:2.0
PRODID:-//Port of South Whidbey - ECPv6.15.20//NONSGML v1.0//EN
CALSCALE:GREGORIAN
METHOD:PUBLISH
X-WR-CALNAME:Port of South Whidbey
X-ORIGINAL-URL:https://portofsouthwhidbey.com
X-WR-CALDESC:Events for Port of South Whidbey
REFRESH-INTERVAL;VALUE=DURATION:PT1H
X-Robots-Tag:noindex
X-PUBLISHED-TTL:PT1H
BEGIN:VTIMEZONE
TZID:America/Los_Angeles
BEGIN:DAYLIGHT
TZOFFSETFROM:-0800
TZOFFSETTO:-0700
TZNAME:PDT
DTSTART:20170312T100000
END:DAYLIGHT
BEGIN:STANDARD
TZOFFSETFROM:-0700
TZOFFSETTO:-0800
TZNAME:PST
DTSTART:20171105T090000
END:STANDARD
BEGIN:DAYLIGHT
TZOFFSETFROM:-0800
TZOFFSETTO:-0700
TZNAME:PDT
DTSTART:20180311T100000
END:DAYLIGHT
BEGIN:STANDARD
TZOFFSETFROM:-0700
TZOFFSETTO:-0800
TZNAME:PST
DTSTART:20181104T090000
END:STANDARD
BEGIN:DAYLIGHT
TZOFFSETFROM:-0800
TZOFFSETTO:-0700
TZNAME:PDT
DTSTART:20190310T100000
END:DAYLIGHT
BEGIN:STANDARD
TZOFFSETFROM:-0700
TZOFFSETTO:-0800
TZNAME:PST
DTSTART:20191103T090000
END:STANDARD
END:VTIMEZONE
BEGIN:VEVENT
DTSTART;VALUE=DATE:20180602
DTEND;VALUE=DATE:20180604
DTSTAMP:20260424T100213
CREATED:20171213T010648Z
LAST-MODIFIED:20171213T010648Z
UID:10000025-1527897600-1528070399@portofsouthwhidbey.com
SUMMARY:WWGA Horse Events
DESCRIPTION:Whidbey Western Games Association Horse Events; register with WWGA. Camping overnight is first-come/first-served\, pay upon arrival to the Port of South Whidbey.
URL:https://portofsouthwhidbey.com/event/wwga-horse-events-2/
LOCATION:WA
CATEGORIES:Eakin Arena Events,Fairgrounds Events
ORGANIZER;CN="Whidbey Western Games Association":MAILTO:horsecliff@gmail.com
END:VEVENT
BEGIN:VEVENT
DTSTART;TZID=America/Los_Angeles:20180602T090000
DTEND;TZID=America/Los_Angeles:20180602T130000
DTSTAMP:20260424T100213
CREATED:20180130T220914Z
LAST-MODIFIED:20180130T220914Z
UID:10000279-1527930000-1527944400@portofsouthwhidbey.com
SUMMARY:Figure Drawing Session
DESCRIPTION:Non-instructed\, self-paced painting\, drawing or sketching from the live model. Contact South Whidbey Island Figure Drawing Group for info.
URL:https://portofsouthwhidbey.com/event/figure-drawing-session-26/
LOCATION:Burrier East\, 819 Camano Avenue\, Langley\, WA\, 98260
CATEGORIES:Fairgrounds Events
ORGANIZER;CN="South Whidbey Island Figure Drawing Group":MAILTO:info@whidbeyislandfas.com
END:VEVENT
BEGIN:VEVENT
DTSTART;TZID=America/Los_Angeles:20180602T193000
DTEND;TZID=America/Los_Angeles:20180602T220000
DTSTAMP:20260424T100213
CREATED:20180130T191337Z
LAST-MODIFIED:20180130T191337Z
UID:10000242-1527967800-1527976800@portofsouthwhidbey.com
SUMMARY:OutCast Productions: SLOW GIRL\, live theatre
DESCRIPTION:Located inside the cozy Black Box Theater\, OutCast Productions brings you live theatre on the edge: SLOWGIRL. Slowgirl is the story of a teenager who flees to her reclusive uncle’s retreat in the Costa Rican jungle to escape the aftermath of a horrific accident. The week they spend together forces them both to confront who they are as well as what it is they are running from.
URL:https://portofsouthwhidbey.com/event/outcast-productions-slow-girl-live-theatre-4/
LOCATION:Black Box Theater\, Pole Building\, 819 Camano Avenue\, Langley\, WA\, 98260\, United States
CATEGORIES:Fairgrounds Events
ORGANIZER;CN="OutCast Productions":MAILTO:ocp@whidbey.com
END:VEVENT
END:VCALENDAR