BEGIN:VCALENDAR
VERSION:2.0
PRODID:-//Port of South Whidbey - ECPv6.15.20//NONSGML v1.0//EN
CALSCALE:GREGORIAN
METHOD:PUBLISH
X-WR-CALNAME:Port of South Whidbey
X-ORIGINAL-URL:https://portofsouthwhidbey.com
X-WR-CALDESC:Events for Port of South Whidbey
REFRESH-INTERVAL;VALUE=DURATION:PT1H
X-Robots-Tag:noindex
X-PUBLISHED-TTL:PT1H
BEGIN:VTIMEZONE
TZID:America/Los_Angeles
BEGIN:DAYLIGHT
TZOFFSETFROM:-0800
TZOFFSETTO:-0700
TZNAME:PDT
DTSTART:20170312T100000
END:DAYLIGHT
BEGIN:STANDARD
TZOFFSETFROM:-0700
TZOFFSETTO:-0800
TZNAME:PST
DTSTART:20171105T090000
END:STANDARD
BEGIN:DAYLIGHT
TZOFFSETFROM:-0800
TZOFFSETTO:-0700
TZNAME:PDT
DTSTART:20180311T100000
END:DAYLIGHT
BEGIN:STANDARD
TZOFFSETFROM:-0700
TZOFFSETTO:-0800
TZNAME:PST
DTSTART:20181104T090000
END:STANDARD
BEGIN:DAYLIGHT
TZOFFSETFROM:-0800
TZOFFSETTO:-0700
TZNAME:PDT
DTSTART:20190310T100000
END:DAYLIGHT
BEGIN:STANDARD
TZOFFSETFROM:-0700
TZOFFSETTO:-0800
TZNAME:PST
DTSTART:20191103T090000
END:STANDARD
END:VTIMEZONE
BEGIN:VEVENT
DTSTART;VALUE=DATE:20180614
DTEND;VALUE=DATE:20180618
DTSTAMP:20260423T021920
CREATED:20180130T211204Z
LAST-MODIFIED:20180130T211204Z
UID:10000088-1528934400-1529279999@portofsouthwhidbey.com
SUMMARY:W.I. Fine Art Studio: Teresa Oaxaca workshop
DESCRIPTION:Whidbey Island Fine Art Studio: Teresa Oaxaca workshop. Composing and executing the half-length portrait in 4 days. The amazing Teresa Oaxaca is returning to Whidbey Island! In this workshop students will work with a four-day\, mid length life size pose from the live model with portrait\, hands\, dynamic costume and still life elements.  Compositions\, value and color will be discussed.  Techniques will involve underpainting\, overpainting\, impasto and wet into wet effects.  Materials\, supports\, and drying time will be discussed. Teresa will carry a 4 day pose through to completion during the mornings so as to demonstrate the technique overall.  Students will receive daily critiques and lectures.
URL:https://portofsouthwhidbey.com/event/w-fine-art-studio-teresa-oaxaca-workshop/
LOCATION:Burrier East\, 819 Camano Avenue\, Langley\, WA\, 98260
CATEGORIES:Fairgrounds Events
ORGANIZER;CN="Whidbey Island Fine Art Studio":MAILTO:info@whidbeyislandfas.com
END:VEVENT
END:VCALENDAR