BEGIN:VCALENDAR
VERSION:2.0
PRODID:-//Port of South Whidbey - ECPv6.15.20//NONSGML v1.0//EN
CALSCALE:GREGORIAN
METHOD:PUBLISH
X-WR-CALNAME:Port of South Whidbey
X-ORIGINAL-URL:https://portofsouthwhidbey.com
X-WR-CALDESC:Events for Port of South Whidbey
REFRESH-INTERVAL;VALUE=DURATION:PT1H
X-Robots-Tag:noindex
X-PUBLISHED-TTL:PT1H
BEGIN:VTIMEZONE
TZID:America/Los_Angeles
BEGIN:DAYLIGHT
TZOFFSETFROM:-0800
TZOFFSETTO:-0700
TZNAME:PDT
DTSTART:20170312T100000
END:DAYLIGHT
BEGIN:STANDARD
TZOFFSETFROM:-0700
TZOFFSETTO:-0800
TZNAME:PST
DTSTART:20171105T090000
END:STANDARD
BEGIN:DAYLIGHT
TZOFFSETFROM:-0800
TZOFFSETTO:-0700
TZNAME:PDT
DTSTART:20180311T100000
END:DAYLIGHT
BEGIN:STANDARD
TZOFFSETFROM:-0700
TZOFFSETTO:-0800
TZNAME:PST
DTSTART:20181104T090000
END:STANDARD
BEGIN:DAYLIGHT
TZOFFSETFROM:-0800
TZOFFSETTO:-0700
TZNAME:PDT
DTSTART:20190310T100000
END:DAYLIGHT
BEGIN:STANDARD
TZOFFSETFROM:-0700
TZOFFSETTO:-0800
TZNAME:PST
DTSTART:20191103T090000
END:STANDARD
END:VTIMEZONE
BEGIN:VEVENT
DTSTART;VALUE=DATE:20180623
DTEND;VALUE=DATE:20180626
DTSTAMP:20260423T021920
CREATED:20180130T211535Z
LAST-MODIFIED:20180130T211535Z
UID:10000090-1529712000-1529971199@portofsouthwhidbey.com
SUMMARY:W.I. Fine Art Studio: Evelyn Woods workshop
DESCRIPTION:Whidbey Island Fine Art Studio: Evelyn Woods workshop. Still Life Drawing with Charcoal/Subtractive Drawing Technique. In this workshop\, students will engage in the process of drawing using the technique of subtractive drawing.  We will be working on gesso primed paper utilizing a variety of drawing tools including brushes\, an array of erasures\, sandpaper\, exacto knives and turpentine. Beginning with a solid black prepared paper\, students will render through direct observation the form and light of the still life while giving consideration to how much visual information is necessary for the image to be convincing.
URL:https://portofsouthwhidbey.com/event/w-fine-art-studio-evelyn-woods-workshop/
LOCATION:Burrier East\, 819 Camano Avenue\, Langley\, WA\, 98260
CATEGORIES:Fairgrounds Events
ORGANIZER;CN="Whidbey Island Fine Art Studio":MAILTO:info@whidbeyislandfas.com
END:VEVENT
BEGIN:VEVENT
DTSTART;TZID=America/Los_Angeles:20180625T150000
DTEND;TZID=America/Los_Angeles:20180625T173000
DTSTAMP:20260423T021920
CREATED:20180618T202435Z
LAST-MODIFIED:20180622T212016Z
UID:10000354-1529938800-1529947800@portofsouthwhidbey.com
SUMMARY:Special Meeting
DESCRIPTION:The Board of Commissioners of the Port District of South Whidbey Island will be convening a Special Meeting at 3:00 p.m. on Monday\, June 25\, 2018\, in the Port office conference room located at 1804 Scott Road in Freeland. The primary purpose of the Special Meeting will be for the Commission to address the items in the attached Draft Agenda \, and public participation is not on the agenda.  In addition\, the Commissioners will hold a public Work Session.  Work Sessions are public meetings that provide an opportunity in an informal workshop format for the Board to review and discuss general Port business.  No actions will be taken during the Work Session. \n  \nIt should be noted that the next regular Meeting of the Board of Commissioners is scheduled for Tuesday\, July 10th at 6:30 p.m. in Grigware Hall of Trinity Lutheran Church at 18341 WA-525\, Freeland\, WA\, (note this is the older church building right on the highway) and that Meeting will include public participation.
URL:https://portofsouthwhidbey.com/event/special-meeting-8/
LOCATION:Port of South Whidbey Business Office\, 1804 Scott Rd\, Suite 303\, Freeland\, WA\, 98249\, United States
CATEGORIES:Port Wide Events
ORGANIZER;CN="Port of South Whidbey Business Office":MAILTO:molly@portofsouthwhidbey.com
END:VEVENT
BEGIN:VEVENT
DTSTART;TZID=America/Los_Angeles:20180625T173000
DTEND;TZID=America/Los_Angeles:20180625T200000
DTSTAMP:20260423T021920
CREATED:20180411T182931Z
LAST-MODIFIED:20180411T182931Z
UID:10000338-1529947800-1529956800@portofsouthwhidbey.com
SUMMARY:Island County 4-H Riding Meeting- Arena
DESCRIPTION:
URL:https://portofsouthwhidbey.com/event/island-county-4-h-riding-meeting-arena-34/
LOCATION:Eakin Arena\, 819 Camano Avenue\, Langley\, WA\, 98260\, United States
CATEGORIES:Eakin Arena Events
ORGANIZER;CN="Washington State University Extension Island County 4H":MAILTO:islandcounty.4h@wsu.edu
END:VEVENT
END:VCALENDAR