BEGIN:VCALENDAR
VERSION:2.0
PRODID:-//Port of South Whidbey - ECPv6.15.20//NONSGML v1.0//EN
CALSCALE:GREGORIAN
METHOD:PUBLISH
X-WR-CALNAME:Port of South Whidbey
X-ORIGINAL-URL:https://portofsouthwhidbey.com
X-WR-CALDESC:Events for Port of South Whidbey
REFRESH-INTERVAL;VALUE=DURATION:PT1H
X-Robots-Tag:noindex
X-PUBLISHED-TTL:PT1H
BEGIN:VTIMEZONE
TZID:America/Los_Angeles
BEGIN:DAYLIGHT
TZOFFSETFROM:-0800
TZOFFSETTO:-0700
TZNAME:PDT
DTSTART:20170312T100000
END:DAYLIGHT
BEGIN:STANDARD
TZOFFSETFROM:-0700
TZOFFSETTO:-0800
TZNAME:PST
DTSTART:20171105T090000
END:STANDARD
BEGIN:DAYLIGHT
TZOFFSETFROM:-0800
TZOFFSETTO:-0700
TZNAME:PDT
DTSTART:20180311T100000
END:DAYLIGHT
BEGIN:STANDARD
TZOFFSETFROM:-0700
TZOFFSETTO:-0800
TZNAME:PST
DTSTART:20181104T090000
END:STANDARD
BEGIN:DAYLIGHT
TZOFFSETFROM:-0800
TZOFFSETTO:-0700
TZNAME:PDT
DTSTART:20190310T100000
END:DAYLIGHT
BEGIN:STANDARD
TZOFFSETFROM:-0700
TZOFFSETTO:-0800
TZNAME:PST
DTSTART:20191103T090000
END:STANDARD
END:VTIMEZONE
BEGIN:VEVENT
DTSTART;VALUE=DATE:20180820
DTEND;VALUE=DATE:20180825
DTSTAMP:20260423T021920
CREATED:20180130T213508Z
LAST-MODIFIED:20180130T213508Z
UID:10000096-1534723200-1535155199@portofsouthwhidbey.com
SUMMARY:W.I. Fine Art Studio: Fred Wessel workshop
DESCRIPTION:Whidbey Island Fine Art Studio: Fred Wessel workshop. Egg Tempera and the Early Renaissance Method of Developing Fleshtones. This course will teach the technique of painting flesh ones in egg tempera painting as it was practiced in 14th and 15th Century Italy and as documented by Cennino Cennini in his book Il  Libro dell’Arte. Tempera painting is a medium for those who love drawing. This painting technique is fussy and requires great discipline but pays great dividends to those who learn to master it.    The paint is actually applied in cross-hatch strokes.  It combines the best of both watercolor (application of translucent layers of color) and gouache techniques (using semi opaques to re-establish  the light areas).  The brilliant and jewel-like surface is often described as luminescent. The paints are made by mixing powdered pigments with the yolk of an egg.  This color mixture is applied over a detailed under-drawing thus allowing the artist to separate the painting process into distinct tasks.  The artist first composes\, draws and establishes the values of the painting in black and white.  The painter can now give his or her full attention to issues of color. This course is technique rather than product oriented.  Working from Old Master reproductions\, we will paint a head starting with an ink underdrawing\, progressing to a green underpainting\, adding verdaccio in the shadow areas\, adding reds to warm areas\, then glazing warm tones and judiciously taking away the greens.
URL:https://portofsouthwhidbey.com/event/w-fine-art-studio-fred-wessel-workshop/
LOCATION:Burrier East\, 819 Camano Avenue\, Langley\, WA\, 98260
CATEGORIES:Fairgrounds Events
ORGANIZER;CN="Whidbey Island Fine Art Studio":MAILTO:info@whidbeyislandfas.com
END:VEVENT
BEGIN:VEVENT
DTSTART;TZID=America/Los_Angeles:20180824T150000
DTEND;TZID=America/Los_Angeles:20180824T163000
DTSTAMP:20260423T021920
CREATED:20180716T184429Z
LAST-MODIFIED:20180730T212729Z
UID:10000147-1535122800-1535128200@portofsouthwhidbey.com
SUMMARY:Fairgrounds Advisory Committee (DATE CHANGE)
DESCRIPTION:NOTE:  FAC August meeting date has changed from August 31 to August 24. \nThe Fairgrounds Advisory Committee will be meeting on Friday\, August 24 at 3:00 p.m. in the Burrier Building on the Fairgrounds at 819 Camano Avenue\, Langley.  This meeting is open to the public.
URL:https://portofsouthwhidbey.com/event/fairgrounds-advisory-committee-11/
LOCATION:Coffman Building / Fairgrounds\, 819 Camano Avenue\, Langley\, WA\, 98260\, United States
CATEGORIES:Fairgrounds Events,Port Wide Events
ORGANIZER;CN="Port of South Whidbey":MAILTO:execdir@portofsouthwhidbey.com
END:VEVENT
END:VCALENDAR