BEGIN:VCALENDAR
VERSION:2.0
PRODID:-//Port of South Whidbey - ECPv6.15.20//NONSGML v1.0//EN
CALSCALE:GREGORIAN
METHOD:PUBLISH
X-ORIGINAL-URL:https://portofsouthwhidbey.com
X-WR-CALDESC:Events for Port of South Whidbey
REFRESH-INTERVAL;VALUE=DURATION:PT1H
X-Robots-Tag:noindex
X-PUBLISHED-TTL:PT1H
BEGIN:VTIMEZONE
TZID:America/Los_Angeles
BEGIN:DAYLIGHT
TZOFFSETFROM:-0800
TZOFFSETTO:-0700
TZNAME:PDT
DTSTART:20170312T100000
END:DAYLIGHT
BEGIN:STANDARD
TZOFFSETFROM:-0700
TZOFFSETTO:-0800
TZNAME:PST
DTSTART:20171105T090000
END:STANDARD
BEGIN:DAYLIGHT
TZOFFSETFROM:-0800
TZOFFSETTO:-0700
TZNAME:PDT
DTSTART:20180311T100000
END:DAYLIGHT
BEGIN:STANDARD
TZOFFSETFROM:-0700
TZOFFSETTO:-0800
TZNAME:PST
DTSTART:20181104T090000
END:STANDARD
BEGIN:DAYLIGHT
TZOFFSETFROM:-0800
TZOFFSETTO:-0700
TZNAME:PDT
DTSTART:20190310T100000
END:DAYLIGHT
BEGIN:STANDARD
TZOFFSETFROM:-0700
TZOFFSETTO:-0800
TZNAME:PST
DTSTART:20191103T090000
END:STANDARD
END:VTIMEZONE
BEGIN:VEVENT
DTSTART;TZID=America/Los_Angeles:20180915T193000
DTEND;TZID=America/Los_Angeles:20180915T220000
DTSTAMP:20260422T155329
CREATED:20180130T193153Z
LAST-MODIFIED:20180130T193153Z
UID:10000256-1537039800-1537048800@portofsouthwhidbey.com
SUMMARY:OutCast Productions: $38\,000 FOR A FRIENDLY FACE\, live theatre
DESCRIPTION:Located inside the cozy Black Box Theater\, OutCast Productions brings you live theatre on the edge: $38\,000 FOR A FRIENDLY FACE\, a comedy. $38\,000 For a Friendly Face is a heartfelt comedy set in a funeral home. An unpleasant woman dies and her two estranged daughters arrive at a small town funeral home for the celebration of life. Matt is new in the funeral home business and is trying his earnest best to provide a good service. The women of the last supper committee are preparing food for the event. A young woman arrives with a total of three flowers for the service. It becomes apparent that no one else is coming. Relationships disintegrate over the course of the morning. $38\,000 For a Friendly Face takes a humorous look at what matters most in relationships\, in families\, in friendships\, and in celebrations of life.
URL:https://portofsouthwhidbey.com/event/outcast-productions-38000-friendly-face-live-theatre-2/
LOCATION:Black Box Theater\, Pole Building\, 819 Camano Avenue\, Langley\, WA\, 98260\, United States
CATEGORIES:Fairgrounds Events
ORGANIZER;CN="OutCast Productions":MAILTO:ocp@whidbey.com
END:VEVENT
END:VCALENDAR