BEGIN:VCALENDAR
VERSION:2.0
PRODID:-//Port of South Whidbey - ECPv6.15.20//NONSGML v1.0//EN
CALSCALE:GREGORIAN
METHOD:PUBLISH
X-ORIGINAL-URL:https://portofsouthwhidbey.com
X-WR-CALDESC:Events for Port of South Whidbey
REFRESH-INTERVAL;VALUE=DURATION:PT1H
X-Robots-Tag:noindex
X-PUBLISHED-TTL:PT1H
BEGIN:VTIMEZONE
TZID:America/Los_Angeles
BEGIN:DAYLIGHT
TZOFFSETFROM:-0800
TZOFFSETTO:-0700
TZNAME:PDT
DTSTART:20170312T100000
END:DAYLIGHT
BEGIN:STANDARD
TZOFFSETFROM:-0700
TZOFFSETTO:-0800
TZNAME:PST
DTSTART:20171105T090000
END:STANDARD
BEGIN:DAYLIGHT
TZOFFSETFROM:-0800
TZOFFSETTO:-0700
TZNAME:PDT
DTSTART:20180311T100000
END:DAYLIGHT
BEGIN:STANDARD
TZOFFSETFROM:-0700
TZOFFSETTO:-0800
TZNAME:PST
DTSTART:20181104T090000
END:STANDARD
BEGIN:DAYLIGHT
TZOFFSETFROM:-0800
TZOFFSETTO:-0700
TZNAME:PDT
DTSTART:20190310T100000
END:DAYLIGHT
BEGIN:STANDARD
TZOFFSETFROM:-0700
TZOFFSETTO:-0800
TZNAME:PST
DTSTART:20191103T090000
END:STANDARD
END:VTIMEZONE
BEGIN:VEVENT
DTSTART;VALUE=DATE:20181101
DTEND;VALUE=DATE:20181105
DTSTAMP:20260421T205814
CREATED:20180130T214318Z
LAST-MODIFIED:20180130T214318Z
UID:10000102-1541030400-1541375999@portofsouthwhidbey.com
SUMMARY:W.I. Fine Art Studio: Zoey Frank workshop
DESCRIPTION:Whidbey Island Fine Art Studio: Zoey Frank workshop. Composition through Still Life. In this workshop we will use still life to explore composition. We will consider the geometry of the arrangement\, viewpoint\, color\, value relationships and balance in a series of small painted studies\, working toward a composition that is constructed as a whole unit. Focus will be places on satisfying and accurate drawing\, value and color relationships. The workshop will be taught through lecture\, demonstration and critique.
URL:https://portofsouthwhidbey.com/event/w-fine-art-studio-zoey-frank-workshop/
LOCATION:Burrier East\, 819 Camano Avenue\, Langley\, WA\, 98260
CATEGORIES:Fairgrounds Events
ORGANIZER;CN="Whidbey Island Fine Art Studio":MAILTO:info@whidbeyislandfas.com
END:VEVENT
BEGIN:VEVENT
DTSTART;TZID=America/Los_Angeles:20181103T193000
DTEND;TZID=America/Los_Angeles:20181103T220000
DTSTAMP:20260421T205814
CREATED:20180130T194225Z
LAST-MODIFIED:20180130T194225Z
UID:10000266-1541273400-1541282400@portofsouthwhidbey.com
SUMMARY:OutCast Productions: THE HOTEL BELLECLAIRE\, live theatre
DESCRIPTION:Located inside the cozy Black Box Theater\, OutCast Productions brings you live theatre on the edge: THE HOTEL BELLECLAIRE. Marilyn\, Eve and Gloria meet over five years sharing their collective journeys towards their inevitable golden years. They muddle through divorce\, loss and graying hair accompanied by a fun\, uplifting original score\, discovering that love and enduring true friendship are the real ingredients making all the difference in the world and The Hotel Belleclaire. Drop in for a visit!
URL:https://portofsouthwhidbey.com/event/outcast-productions-hotel-belleclaire-live-theatre-2/
LOCATION:Black Box Theater\, Pole Building\, 819 Camano Avenue\, Langley\, WA\, 98260\, United States
CATEGORIES:Fairgrounds Events
ORGANIZER;CN="OutCast Productions":MAILTO:ocp@whidbey.com
END:VEVENT
END:VCALENDAR