BEGIN:VCALENDAR
VERSION:2.0
PRODID:-//Port of South Whidbey - ECPv6.15.20//NONSGML v1.0//EN
CALSCALE:GREGORIAN
METHOD:PUBLISH
X-WR-CALNAME:Port of South Whidbey
X-ORIGINAL-URL:https://portofsouthwhidbey.com
X-WR-CALDESC:Events for Port of South Whidbey
REFRESH-INTERVAL;VALUE=DURATION:PT1H
X-Robots-Tag:noindex
X-PUBLISHED-TTL:PT1H
BEGIN:VTIMEZONE
TZID:America/Los_Angeles
BEGIN:DAYLIGHT
TZOFFSETFROM:-0800
TZOFFSETTO:-0700
TZNAME:PDT
DTSTART:20170312T100000
END:DAYLIGHT
BEGIN:STANDARD
TZOFFSETFROM:-0700
TZOFFSETTO:-0800
TZNAME:PST
DTSTART:20171105T090000
END:STANDARD
BEGIN:DAYLIGHT
TZOFFSETFROM:-0800
TZOFFSETTO:-0700
TZNAME:PDT
DTSTART:20180311T100000
END:DAYLIGHT
BEGIN:STANDARD
TZOFFSETFROM:-0700
TZOFFSETTO:-0800
TZNAME:PST
DTSTART:20181104T090000
END:STANDARD
BEGIN:DAYLIGHT
TZOFFSETFROM:-0800
TZOFFSETTO:-0700
TZNAME:PDT
DTSTART:20190310T100000
END:DAYLIGHT
BEGIN:STANDARD
TZOFFSETFROM:-0700
TZOFFSETTO:-0800
TZNAME:PST
DTSTART:20191103T090000
END:STANDARD
END:VTIMEZONE
BEGIN:VEVENT
DTSTART;TZID=America/Los_Angeles:20181116T193000
DTEND;TZID=America/Los_Angeles:20181116T220000
DTSTAMP:20260421T152218
CREATED:20180130T195047Z
LAST-MODIFIED:20180130T195047Z
UID:10000269-1542396600-1542405600@portofsouthwhidbey.com
SUMMARY:OutCast Productions: THE HOTEL BELLECLAIRE\, live theatre
DESCRIPTION:Located inside the cozy Black Box Theater\, OutCast Productions brings you live theatre on the edge: THE HOTEL BELLECLAIRE. Marilyn\, Eve and Gloria meet over five years sharing their collective journeys towards their inevitable golden years. They muddle through divorce\, loss and graying hair accompanied by a fun\, uplifting original score\, discovering that love and enduring true friendship are the real ingredients making all the difference in the world and The Hotel Belleclaire. Drop in for a visit!
URL:https://portofsouthwhidbey.com/event/outcast-productions-hotel-belleclaire-live-theatre-5/
LOCATION:Black Box Theater\, Pole Building\, 819 Camano Avenue\, Langley\, WA\, 98260\, United States
CATEGORIES:Fairgrounds Events
ORGANIZER;CN="OutCast Productions":MAILTO:ocp@whidbey.com
END:VEVENT
END:VCALENDAR